BEGIN:VCALENDAR
VERSION:2.0
PRODID:-//A.A. Sonoma County Intergroup Fellowship - ECPv6.6.4.2//NONSGML v1.0//EN
CALSCALE:GREGORIAN
METHOD:PUBLISH
X-WR-CALNAME:A.A. Sonoma County Intergroup Fellowship
X-ORIGINAL-URL:https://sonomacountyaa.org
X-WR-CALDESC:Events for A.A. Sonoma County Intergroup Fellowship
REFRESH-INTERVAL;VALUE=DURATION:PT1H
X-Robots-Tag:noindex
X-PUBLISHED-TTL:PT1H
BEGIN:VTIMEZONE
TZID:America/Los_Angeles
BEGIN:DAYLIGHT
TZOFFSETFROM:-0800
TZOFFSETTO:-0700
TZNAME:PDT
DTSTART:20260308T100000
END:DAYLIGHT
BEGIN:STANDARD
TZOFFSETFROM:-0700
TZOFFSETTO:-0800
TZNAME:PST
DTSTART:20261101T090000
END:STANDARD
END:VTIMEZONE
BEGIN:VEVENT
DTSTART;TZID=America/Los_Angeles:20260424T180000
DTEND;TZID=America/Los_Angeles:20260424T200000
DTSTAMP:20260424T025755
CREATED:20260316T184354Z
LAST-MODIFIED:20260316T184354Z
UID:8758-1777053600-1777060800@sonomacountyaa.org
SUMMARY:Sober Game Night
DESCRIPTION:Sober Game Night!\nFellowship • Food • Fun! \nWhen:\nLast Friday of the Month\n6:00 PM – 8:00 PM \nLocation:\nSCIF Meeting Hall\n750 Mendocino Ave #9\nSanta Rosa\, CA 95401 \n\nPlay & Win\nJoin us for a fun evening of games\, fellowship\, and snacks in a sober environment.\nEnjoy board games\, cards\, and friendly competition with the community. \nBring snacks while listening to AA Speaker Tapes! \n\nBoard games\nCard games\nCommunity fellowship\nSnacks to share\n\nEveryone is welcome!
URL:https://sonomacountyaa.org/event/sober-game-night/
LOCATION:SCIF Meeting Hall\, 750 Mendocino Avenue\, Suite 9\, Santa Rosa\, CA\, 95401\, United States
END:VEVENT
END:VCALENDAR